BEGIN:VCALENDAR
VERSION:2.0
PRODID:-//CERN//INDICO//EN
BEGIN:VEVENT
SUMMARY:Delavnica HPC v praksi I: od Linuxa do kontejnerjev / Workshop HPC
  in Practice I: From Linux to Containers
DTSTART:20260422T060000Z
DTEND:20260423T110000Z
DTSTAMP:20260423T144000Z
UID:indico-event-3741@indico.ijs.si
DESCRIPTION:Speakers: Biljana Mileva Boshkoska\n\nPostanite mojster superr
 ačunalništva: Intenzivni HPC treningi na FIŠ\nAli vaše računske potre
 be presegajo zmogljivosti običajnega namiznega računalnika? Pridružite 
 se nam na seriji praktičnih delavnic\, kjer boste osvojili ključna znanj
 a za delo na superračunalniku HPC Trdina in vstopili v svet visoko zmoglj
 ivega računalništva (HPC).\nBecome a Master of Supercomputing: Intensive
  HPC Training at FIŠ\nDo your computational needs exceed the capabilities
  of a standard desktop computer? Join us for a series of hands-on workshop
 s where you will gain key skills for working on the HPC Trdina supercomput
 er and enter the world of High-Performance Computing (HPC).\nDelavnica HPC
  v praksi I: od Linuxa do kontejnerjev / Workshop HPC in Practice I: From 
 Linux to Containers\nTERMIN 1: Osnove upravljanja in Slurm / Linux and Slu
 rm \nKdaj: Sreda\, 22. april 2026 | 9:00 – 13:00 (z odmorom)\nKje: FIŠ
  (online)\n\n\n9:00 – 10:30 | Linux Command Line: Vaš prvi stik s HPC /
  Your First Contact with HPC Osvojite terminal\, ki je vstopna točka v vs
 e sodobne HPC grozde. Naučili se boste navigacije\, upravljanja datotek i
 n pisanja skript za avtomatizacijo. / Master the terminal\, the entry poin
 t to all modern HPC clusters. You will learn navigation\, file management\
 , and writing automation scripts. Predavatelj/Lecturer: Srdjan Škrbić\n\
 n\n11:00 – 12:30 | Slurm: Kako ukrotiti superračunalnik? / Slurm: How t
 o Tame a Supercomputer? Naučite se oddajati naloge\, upravljati s proceso
 rskimi in grafičnimi viri (CPU/GPU) ter optimizirati vrsto za čakanje. /
  Learn how to submit jobs\, manage processing and graphics resources (CPU/
 GPU)\, and optimize job queues. Predavatelj/Lecturer: Jani Pogačar\n\n\nT
 ERMIN 2: Umetna inteligenca in napredna orodja / Artificial Intelligence a
 nd Advanced Tools \nKdaj: Četrtek\, 23. april 2026 | 9:00 – 13:00 (z o
 dmorom)\nKje: FIŠ (online)\n\n\n9:00 – 10:00 | Apptainer: Prenosljivost
  brez omejitev / Apptainer: Portability Without Limits  Spoznajte moč ko
 ntejnerizacije (prej Singularity). Ustvarite okolje\, ki bo delovalo kjerk
 oli\, neodvisno od operacijskega sistema grozda. / Discover the power of c
 ontainerization (formerly Singularity). Create an environment that works a
 nywhere\, independent of the cluster's operating system. Predavatelj/Lect
 urer: Robi Prttržnik\n\n\n10:30 – 12:30 | ML primeri na HPC Trdina / ML
  Examples on HPC Trdina Praktični primeri strojnega učenja (Machine Lear
 ning) neposredno na naši infrastrukturi. Od priprave okolja do prve nauč
 ene mreže. / Practical examples of Machine Learning directly on our infra
 structure—from environment setup to your first trained network.Predavate
 lj/Lecturer: Srdjan Škrbić\n\n\nZakaj se udeležiti?\n\n\nPraksa na real
 nem sistemu: Delo neposredno na HPC Trdina.\n\n\nBrezplačno znanje: Treni
 ngi so del iniciative SLAIF za dvig digitalnih kompetenc.\n\n\nPrijave so 
 obvezne!\n\nhttps://indico.ijs.si/event/3741/
IMAGE;VALUE=URI:https://indico.ijs.si/event/3741/logo-1596601024.png
URL:https://indico.ijs.si/event/3741/
END:VEVENT
END:VCALENDAR
