BEGIN:VCALENDAR
VERSION:2.0
PRODID:-//CERN//INDICO//EN
BEGIN:VEVENT
SUMMARY:Postavi svoj slovenski AI strežnik v 60 minutah / Build your own 
 AI service in 60 minutes
DTSTART:20260415T070000Z
DTEND:20260416T083000Z
DTSTAMP:20260423T144000Z
UID:indico-event-3775@indico.ijs.si
DESCRIPTION:Speakers: Domen Vreš (FRI Uni-Lj)\n\nVodja delavnice: Domen V
 reš\, Univerza v Ljubljani\, Fakulteta za računalništvo in informatiko
 \, Laboratorij za strojno učenje in jezikovne tehnologije\nNa delavnici b
 omo spoznali\, kako v operativno okolje vpeljati slovenski odprti jezikovn
 i model GaMS. V času\, ko organizacije iščejo načine za varno in suve
 reno uporabo umetne inteligence\, GaMS ponuja odgovor\, ki ne temelji na t
 ujih oblakih\, temveč na lokalni infrastrukturi in poznavanju specifik sl
 ovenskega jezika.\nSkozi praktične primere bomo prehodili pot od osnov do
  napredne uporabe:\n\nOsnove inference: Spoznali bomo knjižnici vLLM i
 n transformers ter preizkusili zmogljivosti modela.\nPametni odgovori (R
 AG): Demonstrirali bomo sistem za iskanje po lastnih dokumentih (Retrieva
 l-Augmented Generation)\, ki modelu omogoča odgovarjanje na podlagi vaši
 h specifičnih podatkov.\nLokalna infrastruktura: Ogledali si bomo\, kako
  vzpostaviti lasten AI strežnik z uporabo orodij vLLM ali Ollama ter p
 ripraviti uporabniški vmesnik Open WebUI.  \n\nPriprava na delavnico: 
 Če želite na delavnici aktivno sodelovati\, vas prosimo\, da s seboj pri
 nesete prenosni računalnik. Za praktični bo dovolj\, da imate ustvarjen
  Google račun za dostop do okolja Google Colab. V okolju Colab dobite do
 stop do osnovnih GPE računskih virov tudi z brezplačnim računom (z omej
 itvami). Naprednejši uporabniki\, ki imate svoje GPU kapacitetami (vsaj 8
 GB) si lahko namestite Jupyter Notebook\, knjižnico CUDA in Docker.\nSeve
 da se lahko delavnice udeležite tudi brez prenosnika\, zgolj iz radovedno
 sti – postopke boste lahko spremljali na projekciji\, kasneje pa s pomo
 čjo gradiv vse naučeno preizkusili v svojem tempu.\n \n \n\nhttps://in
 dico.ijs.si/event/3775/
IMAGE;VALUE=URI:https://indico.ijs.si/event/3775/logo-1596601024.png
URL:https://indico.ijs.si/event/3775/
END:VEVENT
END:VCALENDAR
