BEGIN:VCALENDAR
VERSION:2.0
PRODID:-//CERN//INDICO//EN
BEGIN:VEVENT
SUMMARY:AI and Data Privacy and Security Training
DTSTART:20260505T070000Z
DTEND:20260506T083000Z
DTSTAMP:20260423T144000Z
UID:indico-event-3776@indico.ijs.si
DESCRIPTION:We are pleased to invite you to the AI and Data Privacy and S
 ecurity Training\, which will take place on May 5\, 2026\, from 09:00 to 
 14:00 at the Jožef Stefan Institute (Main Lecture Room)\, Ljubljana.\nT
 his one-day event will bring together students\, researchers\, and practit
 ioners to explore trustworthy AI\, decentralized personalization\, and da
 ta privacy\, combining a scientific tutorial\, hands-on activities\, and 
 a policy discussion.\nThe scientific tutorial\, “Knowledge Graph-Powere
 d Decentralized Personalization\,” will be delivered by:\n\nProf. Oshan
 i Seneviratne\, Assistant Professor at RensseAI and Data Privacy and Secu
 rity Training\,laer Polytechnic Institute (RPI)\, leader of the BRAINS Lab
 \, and MIT PhD under Tim Berners-Lee (inventor of WWW protocol).  Her re
 search focuses on decentralized AI\, blockchain\, knowledge graphs\, and w
 eb technologies.\n\n\nFernando Spadea\, PhD student at RPI\, working on P
 KG-driven recommender systems and frameworks such as FedTREK-LM\, FLARKO\
 , and RAG-FLARKO\, with award-winning work at ISWC workshops.\n\nParticipa
 nts will explore personal knowledge graphs (PKGs)\, federated learning\, 
 decentralized AI architectures\, and knowledge-graph-grounded RAG pipeline
 s\, including a hands-on session using RDFLib\, Flower\, and LangChain.\n
 The event will conclude with a policy session on the EU AI Act\, presente
 d by Dr. Polona Pičman Štefančič from the Ministry of Digital Trans
 formation of Slovenia.\nThis event is organized by the Horizon Europe ERA
  Chair project AutoLearn-SI and the SLAIF initiative.\nAgenda: https://au
 tolearnsi.eu/news/2f7268d3-0716-4e07-8bbd-484d96b432b1 Registration form:
  https://forms.gle/aZDdPyn27ETgy6zaA  Tutorial resources: https://brai
 ns-group.github.io/PKG-Recs/\nWe would be delighted if you could join us a
 nd kindly ask you to share this invitation with colleagues who might be i
 nterested.\n\nhttps://indico.ijs.si/event/3776/
IMAGE;VALUE=URI:https://indico.ijs.si/event/3776/logo-1596601024.png
LOCATION:A/2-A214 - Velika predavalnica (Jamova)
URL:https://indico.ijs.si/event/3776/
END:VEVENT
END:VCALENDAR
